BEGIN:VCALENDAR
VERSION:2.0
PRODID:-//Elsternwick Uniting Church - ECPv6.15.15//NONSGML v1.0//EN
CALSCALE:GREGORIAN
METHOD:PUBLISH
X-ORIGINAL-URL:https://elsternwick.unitingchurch.org.au
X-WR-CALDESC:Events for Elsternwick Uniting Church
REFRESH-INTERVAL;VALUE=DURATION:PT1H
X-Robots-Tag:noindex
X-PUBLISHED-TTL:PT1H
BEGIN:VTIMEZONE
TZID:Australia/Melbourne
BEGIN:STANDARD
TZOFFSETFROM:+1100
TZOFFSETTO:+1000
TZNAME:AEST
DTSTART:20250405T160000
END:STANDARD
BEGIN:DAYLIGHT
TZOFFSETFROM:+1000
TZOFFSETTO:+1100
TZNAME:AEDT
DTSTART:20251004T160000
END:DAYLIGHT
BEGIN:STANDARD
TZOFFSETFROM:+1100
TZOFFSETTO:+1000
TZNAME:AEST
DTSTART:20260404T160000
END:STANDARD
BEGIN:DAYLIGHT
TZOFFSETFROM:+1000
TZOFFSETTO:+1100
TZNAME:AEDT
DTSTART:20261003T160000
END:DAYLIGHT
BEGIN:STANDARD
TZOFFSETFROM:+1100
TZOFFSETTO:+1000
TZNAME:AEST
DTSTART:20270403T160000
END:STANDARD
BEGIN:DAYLIGHT
TZOFFSETFROM:+1000
TZOFFSETTO:+1100
TZNAME:AEDT
DTSTART:20271002T160000
END:DAYLIGHT
END:VTIMEZONE
BEGIN:VEVENT
DTSTART;TZID=Australia/Melbourne:20260524T170000
DTEND;TZID=Australia/Melbourne:20260524T180000
DTSTAMP:20260421T232753
CREATED:20260420T055821Z
LAST-MODIFIED:20260420T055902Z
UID:1294-1779642000-1779645600@elsternwick.unitingchurch.org.au
SUMMARY:Quiet reflection
DESCRIPTION:Spend time in quiet reflection\, lighting a candle for your concerns.
URL:https://elsternwick.unitingchurch.org.au/event/quiet-reflection/
LOCATION:450 Kooyong Road Caulfield South\, 450 Kooyong Road\, Caulfield South\, Victoria\, 3162\, Australia
ATTACH;FMTTYPE=image/jpeg:https://elsternwick.unitingchurch.org.au/wp-content/uploads/2025/02/Candles.jpg
ORGANIZER;CN="St John's Elsternwick Caulfield South Uniting Church":MAILTO:elsternwickuc@victas.uca.org.au
END:VEVENT
END:VCALENDAR