BEGIN:VCALENDAR
VERSION:2.0
PRODID:-//Elsternwick Uniting Church - ECPv6.15.15//NONSGML v1.0//EN
CALSCALE:GREGORIAN
METHOD:PUBLISH
X-WR-CALNAME:Elsternwick Uniting Church
X-ORIGINAL-URL:https://elsternwick.unitingchurch.org.au
X-WR-CALDESC:Events for Elsternwick Uniting Church
REFRESH-INTERVAL;VALUE=DURATION:PT1H
X-Robots-Tag:noindex
X-PUBLISHED-TTL:PT1H
BEGIN:VTIMEZONE
TZID:Australia/Melbourne
BEGIN:STANDARD
TZOFFSETFROM:+1100
TZOFFSETTO:+1000
TZNAME:AEST
DTSTART:20170401T160000
END:STANDARD
BEGIN:DAYLIGHT
TZOFFSETFROM:+1000
TZOFFSETTO:+1100
TZNAME:AEDT
DTSTART:20170930T160000
END:DAYLIGHT
BEGIN:STANDARD
TZOFFSETFROM:+1100
TZOFFSETTO:+1000
TZNAME:AEST
DTSTART:20180331T160000
END:STANDARD
BEGIN:DAYLIGHT
TZOFFSETFROM:+1000
TZOFFSETTO:+1100
TZNAME:AEDT
DTSTART:20181006T160000
END:DAYLIGHT
BEGIN:STANDARD
TZOFFSETFROM:+1100
TZOFFSETTO:+1000
TZNAME:AEST
DTSTART:20190406T160000
END:STANDARD
BEGIN:DAYLIGHT
TZOFFSETFROM:+1000
TZOFFSETTO:+1100
TZNAME:AEDT
DTSTART:20191005T160000
END:DAYLIGHT
END:VTIMEZONE
BEGIN:VEVENT
DTSTART;TZID=Australia/Melbourne:20181028T143000
DTEND;TZID=Australia/Melbourne:20181028T160000
DTSTAMP:20260422T192122
CREATED:20181024T105710Z
LAST-MODIFIED:20181024T105710Z
UID:464-1540737000-1540742400@elsternwick.unitingchurch.org.au
SUMMARY:Death Cafe
DESCRIPTION:
URL:https://elsternwick.unitingchurch.org.au/event/death-cafe/
LOCATION:567 Glen Huntly Road Elsternwick\, 567 Glen Huntly Road\, Elsternwick\, Victoria\, 3188\, Australia
ATTACH;FMTTYPE=image/jpeg:https://elsternwick.unitingchurch.org.au/wp-content/uploads/2018/10/death-cafe.jpg
END:VEVENT
BEGIN:VEVENT
DTSTART;TZID=Australia/Melbourne:20181013T100000
DTEND;TZID=Australia/Melbourne:20181013T140000
DTSTAMP:20260422T192122
CREATED:20180929T021357Z
LAST-MODIFIED:20180929T021357Z
UID:439-1539424800-1539439200@elsternwick.unitingchurch.org.au
SUMMARY:Mini Fete
DESCRIPTION:Join us for a fun time with stalls offering plants\, cakes\, Christmas supplies\, books\, Devonshire tea and a sausage sizzle. Plenty of bargains and a chatty time with our community.
URL:https://elsternwick.unitingchurch.org.au/event/mini-fete/
LOCATION:567 Glen Huntly Road Elsternwick\, 567 Glen Huntly Road\, Elsternwick\, Victoria\, 3188\, Australia
ATTACH;FMTTYPE=image/jpeg:https://elsternwick.unitingchurch.org.au/wp-content/uploads/2018/09/Fete.jpg
END:VEVENT
BEGIN:VEVENT
DTSTART;TZID=Australia/Melbourne:20180829T193000
DTEND;TZID=Australia/Melbourne:20180829T213000
DTSTAMP:20260422T192122
CREATED:20180817T002041Z
LAST-MODIFIED:20180817T002041Z
UID:401-1535571000-1535578200@elsternwick.unitingchurch.org.au
SUMMARY:Homelessness Discussion
DESCRIPTION:Social Justice Hub discussion on Homelessness with Launch Housing
URL:https://elsternwick.unitingchurch.org.au/event/homelessness-discussion/
LOCATION:567 Glen Huntly Road Elsternwick\, 567 Glen Huntly Road\, Elsternwick\, Victoria\, 3188\, Australia
ATTACH;FMTTYPE=image/jpeg:https://elsternwick.unitingchurch.org.au/wp-content/uploads/2017/07/blog-graffitti.jpg
END:VEVENT
BEGIN:VEVENT
DTSTART;TZID=Australia/Melbourne:20180729T120000
DTEND;TZID=Australia/Melbourne:20180729T150000
DTSTAMP:20260422T192122
CREATED:20180626T022456Z
LAST-MODIFIED:20180705T062340Z
UID:353-1532865600-1532876400@elsternwick.unitingchurch.org.au
SUMMARY:Refugee Rights\, Social Justice Lunch
DESCRIPTION:Refugee Legal’s David Manne will update us on recent policy changes\, their impact on asylum seekers and what is being done to support them
URL:https://elsternwick.unitingchurch.org.au/event/new-event/
LOCATION:567 Glen Huntly Road Elsternwick\, 567 Glen Huntly Road\, Elsternwick\, Victoria\, 3188\, Australia
ATTACH;FMTTYPE=image/jpeg:https://elsternwick.unitingchurch.org.au/wp-content/uploads/2018/06/david-rl.jpg
END:VEVENT
BEGIN:VEVENT
DTSTART;TZID=Australia/Melbourne:20180709T143000
DTEND;TZID=Australia/Melbourne:20180709T163000
DTSTAMP:20260422T192122
CREATED:20180705T060719Z
LAST-MODIFIED:20180705T062533Z
UID:375-1531146600-1531153800@elsternwick.unitingchurch.org.au
SUMMARY:Keeping Faith\, Storytelling Our Identities
DESCRIPTION:Christian\, Jewish and Muslim storytellers  share stories of faith and identity \nStoryteller\, lawyer\, entrepreneur and parent\, Dalit Kaplan has worked and studied in the US\, Israel and her native Australia. She teaches storytelling\, and tells exploring gender\, identity\, culture and trauma (usually with humour). \nYousef Alreemawi is a lecturer and interpreter with a background in community outreach and working with refugees. He produces and presents at Radio 3CR discussing the Palestinian situation. \nOnce national co-ordinator of ‘Network of Biblical Storytellers’\, Philip Liebelt is a writer\, teacher and minister who tells classics and bible stories\, straight or twisted.
URL:https://elsternwick.unitingchurch.org.au/event/keeping-faith-storytelling-our-identities/
LOCATION:567 Glen Huntly Road Elsternwick\, 567 Glen Huntly Road\, Elsternwick\, Victoria\, 3188\, Australia
ATTACH;FMTTYPE=image/jpeg:https://elsternwick.unitingchurch.org.au/wp-content/uploads/2018/07/Keeping-Faith.jpg
END:VEVENT
END:VCALENDAR