BEGIN:VCALENDAR
VERSION:2.0
PRODID:-//Elsternwick Uniting Church - ECPv6.15.15//NONSGML v1.0//EN
CALSCALE:GREGORIAN
METHOD:PUBLISH
X-WR-CALNAME:Elsternwick Uniting Church
X-ORIGINAL-URL:https://elsternwick.unitingchurch.org.au
X-WR-CALDESC:Events for Elsternwick Uniting Church
REFRESH-INTERVAL;VALUE=DURATION:PT1H
X-Robots-Tag:noindex
X-PUBLISHED-TTL:PT1H
BEGIN:VTIMEZONE
TZID:Australia/Melbourne
BEGIN:STANDARD
TZOFFSETFROM:+1100
TZOFFSETTO:+1000
TZNAME:AEST
DTSTART:20230401T160000
END:STANDARD
BEGIN:DAYLIGHT
TZOFFSETFROM:+1000
TZOFFSETTO:+1100
TZNAME:AEDT
DTSTART:20230930T160000
END:DAYLIGHT
BEGIN:STANDARD
TZOFFSETFROM:+1100
TZOFFSETTO:+1000
TZNAME:AEST
DTSTART:20240406T160000
END:STANDARD
BEGIN:DAYLIGHT
TZOFFSETFROM:+1000
TZOFFSETTO:+1100
TZNAME:AEDT
DTSTART:20241005T160000
END:DAYLIGHT
BEGIN:STANDARD
TZOFFSETFROM:+1100
TZOFFSETTO:+1000
TZNAME:AEST
DTSTART:20250405T160000
END:STANDARD
BEGIN:DAYLIGHT
TZOFFSETFROM:+1000
TZOFFSETTO:+1100
TZNAME:AEDT
DTSTART:20251004T160000
END:DAYLIGHT
BEGIN:STANDARD
TZOFFSETFROM:+1100
TZOFFSETTO:+1000
TZNAME:AEST
DTSTART:20260404T160000
END:STANDARD
BEGIN:DAYLIGHT
TZOFFSETFROM:+1000
TZOFFSETTO:+1100
TZNAME:AEDT
DTSTART:20261003T160000
END:DAYLIGHT
END:VTIMEZONE
BEGIN:VEVENT
DTSTART;TZID=Australia/Melbourne:20250528T170000
DTEND;TZID=Australia/Melbourne:20250528T180000
DTSTAMP:20260422T071755
CREATED:20250425T111031Z
LAST-MODIFIED:20250425T111031Z
UID:1155-1748451600-1748455200@elsternwick.unitingchurch.org.au
SUMMARY:Prayers for peace
DESCRIPTION:Join us in a time of quiet reflection. \nLight a candle… \nPray… \nListen…
URL:https://elsternwick.unitingchurch.org.au/event/prayers-for-peace-19/
LOCATION:567 Glen Huntly Road Elsternwick\, 567 Glen Huntly Road\, Elsternwick\, Victoria\, 3188\, Australia
ATTACH;FMTTYPE=image/jpeg:https://elsternwick.unitingchurch.org.au/wp-content/uploads/2024/11/Peace-sign-scaled.jpg
ORGANIZER;CN="St John's Elsternwick Caulfield South Uniting Church":MAILTO:elsternwickuc@victas.uca.org.au
END:VEVENT
BEGIN:VEVENT
DTSTART;TZID=Australia/Melbourne:20250525T170000
DTEND;TZID=Australia/Melbourne:20250525T180000
DTSTAMP:20260422T071755
CREATED:20250425T111550Z
LAST-MODIFIED:20250425T111550Z
UID:1159-1748192400-1748196000@elsternwick.unitingchurch.org.au
SUMMARY:Lighting a candle ...
DESCRIPTION:Join us for a quiet time of reflection – lighting a candle \n… for a loved one \n… for someone on your mind \n… for a pet \n… for peace
URL:https://elsternwick.unitingchurch.org.au/event/lighting-a-candle-3/
LOCATION:450 Kooyong Road Caulfield South\, 450 Kooyong Road\, Caulfield South\, Victoria\, 3162\, Australia
ATTACH;FMTTYPE=image/jpeg:https://elsternwick.unitingchurch.org.au/wp-content/uploads/2025/02/Candles.jpg
ORGANIZER;CN="St John's Elsternwick Caulfield South Uniting Church":MAILTO:elsternwickuc@victas.uca.org.au
END:VEVENT
BEGIN:VEVENT
DTSTART;TZID=Australia/Melbourne:20250521T170000
DTEND;TZID=Australia/Melbourne:20250521T180000
DTSTAMP:20260422T071755
CREATED:20250425T110938Z
LAST-MODIFIED:20250425T110938Z
UID:1153-1747846800-1747850400@elsternwick.unitingchurch.org.au
SUMMARY:Prayers for peace
DESCRIPTION:Join us in a time of quiet reflection. \nLight a candle… \nPray… \nListen…
URL:https://elsternwick.unitingchurch.org.au/event/prayers-for-peace-18/
LOCATION:567 Glen Huntly Road Elsternwick\, 567 Glen Huntly Road\, Elsternwick\, Victoria\, 3188\, Australia
ATTACH;FMTTYPE=image/jpeg:https://elsternwick.unitingchurch.org.au/wp-content/uploads/2024/11/Peace-sign-scaled.jpg
ORGANIZER;CN="St John's Elsternwick Caulfield South Uniting Church":MAILTO:elsternwickuc@victas.uca.org.au
END:VEVENT
BEGIN:VEVENT
DTSTART;TZID=Australia/Melbourne:20250514T170000
DTEND;TZID=Australia/Melbourne:20250514T180000
DTSTAMP:20260422T071755
CREATED:20250425T110845Z
LAST-MODIFIED:20250425T110845Z
UID:1151-1747242000-1747245600@elsternwick.unitingchurch.org.au
SUMMARY:Prayer for peace
DESCRIPTION:Join us in a time of quiet reflection. \nLight a candle… \nPray… \nListen…
URL:https://elsternwick.unitingchurch.org.au/event/prayer-for-peace-2/
LOCATION:567 Glen Huntly Road Elsternwick\, 567 Glen Huntly Road\, Elsternwick\, Victoria\, 3188\, Australia
ATTACH;FMTTYPE=image/jpeg:https://elsternwick.unitingchurch.org.au/wp-content/uploads/2024/11/Peace-sign-scaled.jpg
ORGANIZER;CN="St John's Elsternwick Caulfield South Uniting Church":MAILTO:elsternwickuc@victas.uca.org.au
END:VEVENT
BEGIN:VEVENT
DTSTART;TZID=Australia/Melbourne:20250511T173000
DTEND;TZID=Australia/Melbourne:20250511T190000
DTSTAMP:20260422T071755
CREATED:20250314T001444Z
LAST-MODIFIED:20250314T001444Z
UID:1123-1746984600-1746990000@elsternwick.unitingchurch.org.au
SUMMARY:Sunday Night at St John's
DESCRIPTION:Join us for a relaxed time sharing food\, ideas\, music and writings. \nBring a plate and if you like a photo\, some music\, a poem or something that you would like to share.
URL:https://elsternwick.unitingchurch.org.au/event/sunday-night-at-st-johns-2/
LOCATION:567 Glen Huntly Road Elsternwick\, 567 Glen Huntly Road\, Elsternwick\, Victoria\, 3188\, Australia
ATTACH;FMTTYPE=image/jpeg:https://elsternwick.unitingchurch.org.au/wp-content/uploads/2025/03/SundayNights.jpeg
END:VEVENT
BEGIN:VEVENT
DTSTART;TZID=Australia/Melbourne:20250510T093000
DTEND;TZID=Australia/Melbourne:20250510T130000
DTSTAMP:20260422T071755
CREATED:20250425T113819Z
LAST-MODIFIED:20250425T113819Z
UID:1164-1746869400-1746882000@elsternwick.unitingchurch.org.au
SUMMARY:Mothers Day Fete
DESCRIPTION:Come find a bargain … plants\, greeting cards\, books\, \nEnjoy a cuppa and scones with jam and cream \nCaulfield Garden Club and St John’s Uniting church raising funds for community outreach \n 
URL:https://elsternwick.unitingchurch.org.au/event/mothers-day-fete/
LOCATION:567 Glen Huntly Road Elsternwick\, 567 Glen Huntly Road\, Elsternwick\, Victoria\, 3188\, Australia
ATTACH;FMTTYPE=image/jpeg:https://elsternwick.unitingchurch.org.au/wp-content/uploads/2018/05/outreach-hero.jpg
ORGANIZER;CN="St John's Elsternwick Caulfield South Uniting Church":MAILTO:elsternwickuc@victas.uca.org.au
END:VEVENT
BEGIN:VEVENT
DTSTART;TZID=Australia/Melbourne:20250507T170000
DTEND;TZID=Australia/Melbourne:20250507T180000
DTSTAMP:20260422T071755
CREATED:20250425T110653Z
LAST-MODIFIED:20250425T110653Z
UID:1147-1746637200-1746640800@elsternwick.unitingchurch.org.au
SUMMARY:Prayers for peace
DESCRIPTION:Join us in a time of quiet reflection. \nLight a candle… \nPray… \nListen…
URL:https://elsternwick.unitingchurch.org.au/event/prayers-for-peace-16/
LOCATION:567 Glen Huntly Road Elsternwick\, 567 Glen Huntly Road\, Elsternwick\, Victoria\, 3188\, Australia
ATTACH;FMTTYPE=image/jpeg:https://elsternwick.unitingchurch.org.au/wp-content/uploads/2024/11/Peace-sign-scaled.jpg
ORGANIZER;CN="St John's Elsternwick Caulfield South Uniting Church":MAILTO:elsternwickuc@victas.uca.org.au
END:VEVENT
BEGIN:VEVENT
DTSTART;TZID=Australia/Melbourne:20250430T170000
DTEND;TZID=Australia/Melbourne:20250430T180000
DTSTAMP:20260422T071755
CREATED:20250314T002554Z
LAST-MODIFIED:20250314T002554Z
UID:1139-1746032400-1746036000@elsternwick.unitingchurch.org.au
SUMMARY:Prayers for Peace
DESCRIPTION:Join us in a time of quiet reflection. \nLight a candle… \nPray… \nListen…
URL:https://elsternwick.unitingchurch.org.au/event/prayers-for-peace-15/
LOCATION:567 Glen Huntly Road Elsternwick\, 567 Glen Huntly Road\, Elsternwick\, Victoria\, 3188\, Australia
ATTACH;FMTTYPE=image/jpeg:https://elsternwick.unitingchurch.org.au/wp-content/uploads/2024/11/Peace-sign-scaled.jpg
ORGANIZER;CN="St John's Elsternwick Caulfield South Uniting Church":MAILTO:elsternwickuc@victas.uca.org.au
END:VEVENT
BEGIN:VEVENT
DTSTART;TZID=Australia/Melbourne:20250427T170000
DTEND;TZID=Australia/Melbourne:20250427T180000
DTSTAMP:20260422T071755
CREATED:20250425T111403Z
LAST-MODIFIED:20250425T111403Z
UID:1157-1745773200-1745776800@elsternwick.unitingchurch.org.au
SUMMARY:Lighting a candle...
DESCRIPTION:Join us for a quiet time of reflection – lighting a candle \n… for a loved one \n… for someone on your mind \n… for a pet \n… for peace
URL:https://elsternwick.unitingchurch.org.au/event/lighting-a-candle-2/
LOCATION:450 Kooyong Road Caulfield South\, 450 Kooyong Road\, Caulfield South\, Victoria\, 3162\, Australia
ATTACH;FMTTYPE=image/jpeg:https://elsternwick.unitingchurch.org.au/wp-content/uploads/2025/02/Candles.jpg
ORGANIZER;CN="St John's Elsternwick Caulfield South Uniting Church":MAILTO:elsternwickuc@victas.uca.org.au
END:VEVENT
BEGIN:VEVENT
DTSTART;TZID=Australia/Melbourne:20250423T170000
DTEND;TZID=Australia/Melbourne:20250423T180000
DTSTAMP:20260422T071755
CREATED:20250314T002454Z
LAST-MODIFIED:20250314T002454Z
UID:1137-1745427600-1745431200@elsternwick.unitingchurch.org.au
SUMMARY:Prayers for Peace
DESCRIPTION:Join us in a time of quiet reflection. \nLight a candle… \nPray… \nListen…
URL:https://elsternwick.unitingchurch.org.au/event/prayers-for-peace-14/
LOCATION:567 Glen Huntly Road Elsternwick\, 567 Glen Huntly Road\, Elsternwick\, Victoria\, 3188\, Australia
ATTACH;FMTTYPE=image/jpeg:https://elsternwick.unitingchurch.org.au/wp-content/uploads/2024/11/Peace-sign-scaled.jpg
ORGANIZER;CN="St John's Elsternwick Caulfield South Uniting Church":MAILTO:elsternwickuc@victas.uca.org.au
END:VEVENT
BEGIN:VEVENT
DTSTART;TZID=Australia/Melbourne:20250416T170000
DTEND;TZID=Australia/Melbourne:20250416T180000
DTSTAMP:20260422T071755
CREATED:20250314T002309Z
LAST-MODIFIED:20250314T002309Z
UID:1135-1744822800-1744826400@elsternwick.unitingchurch.org.au
SUMMARY:Prayers for Peace
DESCRIPTION:Join us in a time of quiet reflection. \nLight a candle… \nPray… \nListen…
URL:https://elsternwick.unitingchurch.org.au/event/prayers-for-peace-13/
LOCATION:567 Glen Huntly Road Elsternwick\, 567 Glen Huntly Road\, Elsternwick\, Victoria\, 3188\, Australia
ATTACH;FMTTYPE=image/jpeg:https://elsternwick.unitingchurch.org.au/wp-content/uploads/2024/11/Peace-sign-scaled.jpg
ORGANIZER;CN="St John's Elsternwick Caulfield South Uniting Church":MAILTO:elsternwickuc@victas.uca.org.au
END:VEVENT
BEGIN:VEVENT
DTSTART;TZID=Australia/Melbourne:20250413T173000
DTEND;TZID=Australia/Melbourne:20250413T190000
DTSTAMP:20260422T071755
CREATED:20250314T001339Z
LAST-MODIFIED:20250314T001339Z
UID:1120-1744565400-1744570800@elsternwick.unitingchurch.org.au
SUMMARY:Sunday Night at St John's
DESCRIPTION:Join us for a relaxed time sharing food\, ideas\, music and writings. \nBring a plate and if you like a photo\, some music\, a poem or something that you would like to share.
URL:https://elsternwick.unitingchurch.org.au/event/sunday-night-at-st-johns/
LOCATION:567 Glen Huntly Road Elsternwick\, 567 Glen Huntly Road\, Elsternwick\, Victoria\, 3188\, Australia
ATTACH;FMTTYPE=image/jpeg:https://elsternwick.unitingchurch.org.au/wp-content/uploads/2025/03/SundayNights.jpeg
ORGANIZER;CN="St John's Elsternwick Caulfield South Uniting Church":MAILTO:elsternwickuc@victas.uca.org.au
END:VEVENT
BEGIN:VEVENT
DTSTART;TZID=Australia/Melbourne:20250409T170000
DTEND;TZID=Australia/Melbourne:20250409T180000
DTSTAMP:20260422T071755
CREATED:20250314T002216Z
LAST-MODIFIED:20250314T002216Z
UID:1133-1744218000-1744221600@elsternwick.unitingchurch.org.au
SUMMARY:Prayers for Peace
DESCRIPTION:Join us in a time of quiet reflection. \nLight a candle… \nPray… \nListen…
URL:https://elsternwick.unitingchurch.org.au/event/prayers-for-peace-12/
LOCATION:567 Glen Huntly Road Elsternwick\, 567 Glen Huntly Road\, Elsternwick\, Victoria\, 3188\, Australia
ATTACH;FMTTYPE=image/jpeg:https://elsternwick.unitingchurch.org.au/wp-content/uploads/2024/11/Peace-sign-scaled.jpg
ORGANIZER;CN="St John's Elsternwick Caulfield South Uniting Church":MAILTO:elsternwickuc@victas.uca.org.au
END:VEVENT
BEGIN:VEVENT
DTSTART;TZID=Australia/Melbourne:20250402T170000
DTEND;TZID=Australia/Melbourne:20250402T180000
DTSTAMP:20260422T071755
CREATED:20250314T002115Z
LAST-MODIFIED:20250314T002115Z
UID:1131-1743613200-1743616800@elsternwick.unitingchurch.org.au
SUMMARY:Prayers for Peace
DESCRIPTION:Join us in a time of quiet reflection. \nLight a candle… \nPray… \nListen…
URL:https://elsternwick.unitingchurch.org.au/event/prayers-for-peace-11/
LOCATION:567 Glen Huntly Road Elsternwick\, 567 Glen Huntly Road\, Elsternwick\, Victoria\, 3188\, Australia
ATTACH;FMTTYPE=image/jpeg:https://elsternwick.unitingchurch.org.au/wp-content/uploads/2024/11/Peace-sign-scaled.jpg
ORGANIZER;CN="St John's Elsternwick Caulfield South Uniting Church":MAILTO:elsternwickuc@victas.uca.org.au
END:VEVENT
BEGIN:VEVENT
DTSTART;TZID=Australia/Melbourne:20250330T140000
DTEND;TZID=Australia/Melbourne:20250330T160000
DTSTAMP:20260422T071755
CREATED:20250314T000631Z
LAST-MODIFIED:20250314T000631Z
UID:1117-1743343200-1743350400@elsternwick.unitingchurch.org.au
SUMMARY:Refugee Update
DESCRIPTION:  \n  \nSt John’s Uniting Church and Bayside Refugee Advocacy and Support Association (BRASA) www.baysiderefugeesupport.org invite you to hear an update on Australia’s treatment of Refugees – What needs to happen? by David Manne\, Renown Human Rights lawyer and CEO of Refugee Legal \nAfternoon tea provided \nThis is a free event but donations will help needy refugees in the community. \nInquiries: Geraldine Moore 0408512522 \n  \n 
URL:https://elsternwick.unitingchurch.org.au/event/refugee-update/
LOCATION:567 Glen Huntly Road Elsternwick\, 567 Glen Huntly Road\, Elsternwick\, Victoria\, 3188\, Australia
ATTACH;FMTTYPE=image/jpeg:https://elsternwick.unitingchurch.org.au/wp-content/uploads/2025/03/David-Manne.jpg
ORGANIZER;CN="St John's Elsternwick Caulfield South Uniting Church":MAILTO:elsternwickuc@victas.uca.org.au
END:VEVENT
BEGIN:VEVENT
DTSTART;TZID=Australia/Melbourne:20250326T170000
DTEND;TZID=Australia/Melbourne:20250326T180000
DTSTAMP:20260422T071755
CREATED:20250314T002010Z
LAST-MODIFIED:20250314T002010Z
UID:1129-1743008400-1743012000@elsternwick.unitingchurch.org.au
SUMMARY:Prayers for Peace
DESCRIPTION:Join us in a time of quiet reflection. \nLight a candle… \nPray… \nListen…
URL:https://elsternwick.unitingchurch.org.au/event/prayers-for-peace-10/
LOCATION:567 Glen Huntly Road Elsternwick\, 567 Glen Huntly Road\, Elsternwick\, Victoria\, 3188\, Australia
ATTACH;FMTTYPE=image/jpeg:https://elsternwick.unitingchurch.org.au/wp-content/uploads/2024/11/Peace-sign-scaled.jpg
ORGANIZER;CN="St John's Elsternwick Caulfield South Uniting Church":MAILTO:elsternwickuc@victas.uca.org.au
END:VEVENT
BEGIN:VEVENT
DTSTART;TZID=Australia/Melbourne:20250323T170000
DTEND;TZID=Australia/Melbourne:20250323T180000
DTSTAMP:20260422T071755
CREATED:20250314T003111Z
LAST-MODIFIED:20250314T003111Z
UID:1141-1742749200-1742752800@elsternwick.unitingchurch.org.au
SUMMARY:Lighting a candle...
DESCRIPTION:Join us for a quiet time of reflection – lighting a candle \n… for a loved one \n… for someone on your mind \n… for a pet \n… for peace
URL:https://elsternwick.unitingchurch.org.au/event/lighting-a-candle/
LOCATION:450 Kooyong Road Caulfield South\, 450 Kooyong Road\, Caulfield South\, Victoria\, 3162\, Australia
ATTACH;FMTTYPE=image/jpeg:https://elsternwick.unitingchurch.org.au/wp-content/uploads/2025/02/Candles.jpg
ORGANIZER;CN="St John's Elsternwick Caulfield South Uniting Church":MAILTO:elsternwickuc@victas.uca.org.au
END:VEVENT
BEGIN:VEVENT
DTSTART;TZID=Australia/Melbourne:20250319T170000
DTEND;TZID=Australia/Melbourne:20250319T180000
DTSTAMP:20260422T071755
CREATED:20250314T001842Z
LAST-MODIFIED:20250314T001842Z
UID:1127-1742403600-1742407200@elsternwick.unitingchurch.org.au
SUMMARY:Prayers for Peace
DESCRIPTION:Join us in a time of quiet reflection. \nLight a candle… \nPray… \nListen…
URL:https://elsternwick.unitingchurch.org.au/event/prayers-for-peace-9/
LOCATION:567 Glen Huntly Road Elsternwick\, 567 Glen Huntly Road\, Elsternwick\, Victoria\, 3188\, Australia
ATTACH;FMTTYPE=image/jpeg:https://elsternwick.unitingchurch.org.au/wp-content/uploads/2024/11/Peace-sign-scaled.jpg
ORGANIZER;CN="St John's Elsternwick Caulfield South Uniting Church":MAILTO:elsternwickuc@victas.uca.org.au
END:VEVENT
BEGIN:VEVENT
DTSTART;TZID=Australia/Melbourne:20241225T093000
DTEND;TZID=Australia/Melbourne:20241225T103000
DTSTAMP:20260422T071755
CREATED:20241123T004033Z
LAST-MODIFIED:20241123T004033Z
UID:1092-1735119000-1735122600@elsternwick.unitingchurch.org.au
SUMMARY:Christmas Day
DESCRIPTION:Join us for the celebration of Christ’s birth.
URL:https://elsternwick.unitingchurch.org.au/event/christmas-day-4/
LOCATION:567 Glen Huntly Road Elsternwick\, 567 Glen Huntly Road\, Elsternwick\, Victoria\, 3188\, Australia
ATTACH;FMTTYPE=image/png:https://elsternwick.unitingchurch.org.au/wp-content/uploads/2019/12/Carols-by-Candlelight-2019.png
ORGANIZER;CN="St John's Elsternwick Caulfield South Uniting Church":MAILTO:elsternwickuc@victas.uca.org.au
END:VEVENT
BEGIN:VEVENT
DTSTART;TZID=Australia/Melbourne:20241218T170000
DTEND;TZID=Australia/Melbourne:20241218T180000
DTSTAMP:20260422T071755
CREATED:20241123T003544Z
LAST-MODIFIED:20241123T003544Z
UID:1088-1734541200-1734544800@elsternwick.unitingchurch.org.au
SUMMARY:Prayers for Peace
DESCRIPTION:Our church is open for a time of quiet reflection \nLight a candle… \nPray… \nListen…
URL:https://elsternwick.unitingchurch.org.au/event/prayers-for-peace-8/
LOCATION:567 Glen Huntly Road Elsternwick\, 567 Glen Huntly Road\, Elsternwick\, Victoria\, 3188\, Australia
ATTACH;FMTTYPE=image/jpeg:https://elsternwick.unitingchurch.org.au/wp-content/uploads/2024/11/Peace-sign-scaled.jpg
ORGANIZER;CN="St John's Elsternwick Caulfield South Uniting Church":MAILTO:elsternwickuc@victas.uca.org.au
END:VEVENT
BEGIN:VEVENT
DTSTART;TZID=Australia/Melbourne:20241215T193000
DTEND;TZID=Australia/Melbourne:20241215T203000
DTSTAMP:20260422T071755
CREATED:20241123T003811Z
LAST-MODIFIED:20241123T003811Z
UID:1090-1734291000-1734294600@elsternwick.unitingchurch.org.au
SUMMARY:Readings and Carols
DESCRIPTION:Join us as we trace the journey of Christ’s birth through readings and carols. \n 
URL:https://elsternwick.unitingchurch.org.au/event/readings-and-carols/
LOCATION:567 Glen Huntly Road Elsternwick\, 567 Glen Huntly Road\, Elsternwick\, Victoria\, 3188\, Australia
ATTACH;FMTTYPE=image/png:https://elsternwick.unitingchurch.org.au/wp-content/uploads/2019/12/Carols-by-Candlelight-2019.png
ORGANIZER;CN="St John's Elsternwick Caulfield South Uniting Church":MAILTO:elsternwickuc@victas.uca.org.au
END:VEVENT
BEGIN:VEVENT
DTSTART;TZID=Australia/Melbourne:20241215T100000
DTEND;TZID=Australia/Melbourne:20241215T113000
DTSTAMP:20260422T071755
CREATED:20241123T004946Z
LAST-MODIFIED:20241123T005023Z
UID:1096-1734256800-1734262200@elsternwick.unitingchurch.org.au
SUMMARY:Anniversary
DESCRIPTION:Today we celebrate Rev Dr Lynette Dungan’s 30th anniversary of ordination.
URL:https://elsternwick.unitingchurch.org.au/event/anniversary/
LOCATION:567 Glen Huntly Road Elsternwick\, 567 Glen Huntly Road\, Elsternwick\, Victoria\, 3188\, Australia
ATTACH;FMTTYPE=image/jpeg:https://elsternwick.unitingchurch.org.au/wp-content/uploads/2024/11/Lynette.jpg
ORGANIZER;CN="St John's Elsternwick Caulfield South Uniting Church":MAILTO:elsternwickuc@victas.uca.org.au
END:VEVENT
BEGIN:VEVENT
DTSTART;TZID=Australia/Melbourne:20241211T170000
DTEND;TZID=Australia/Melbourne:20241211T180000
DTSTAMP:20260422T071755
CREATED:20241123T003321Z
LAST-MODIFIED:20241123T003321Z
UID:1086-1733936400-1733940000@elsternwick.unitingchurch.org.au
SUMMARY:Prayers for Peace
DESCRIPTION:Join us in a time of quiet reflection \nLight a candle… \nPray… \nListen…
URL:https://elsternwick.unitingchurch.org.au/event/prayers-for-peace-7/
LOCATION:567 Glen Huntly Road Elsternwick\, 567 Glen Huntly Road\, Elsternwick\, Victoria\, 3188\, Australia
ATTACH;FMTTYPE=image/jpeg:https://elsternwick.unitingchurch.org.au/wp-content/uploads/2024/11/Peace-sign-scaled.jpg
ORGANIZER;CN="St John's Elsternwick Caulfield South Uniting Church":MAILTO:elsternwickuc@victas.uca.org.au
END:VEVENT
BEGIN:VEVENT
DTSTART;TZID=Australia/Melbourne:20241204T080000
DTEND;TZID=Australia/Melbourne:20241204T170000
DTSTAMP:20260422T071755
CREATED:20241123T003224Z
LAST-MODIFIED:20241123T003224Z
UID:1084-1733299200-1733331600@elsternwick.unitingchurch.org.au
SUMMARY:Prayers for Peace
DESCRIPTION:Join us in a time of quiet reflection \nLight a candle… \nPray… \nListen…
URL:https://elsternwick.unitingchurch.org.au/event/prayers-for-peace-6/
LOCATION:567 Glen Huntly Road Elsternwick\, 567 Glen Huntly Road\, Elsternwick\, Victoria\, 3188\, Australia
ATTACH;FMTTYPE=image/jpeg:https://elsternwick.unitingchurch.org.au/wp-content/uploads/2024/11/Peace-sign-scaled.jpg
ORGANIZER;CN="St John's Elsternwick Caulfield South Uniting Church":MAILTO:elsternwickuc@victas.uca.org.au
END:VEVENT
BEGIN:VEVENT
DTSTART;TZID=Australia/Melbourne:20241127T170000
DTEND;TZID=Australia/Melbourne:20241127T180000
DTSTAMP:20260422T071755
CREATED:20241123T003049Z
LAST-MODIFIED:20241123T003049Z
UID:1082-1732726800-1732730400@elsternwick.unitingchurch.org.au
SUMMARY:Prayers for Peace
DESCRIPTION:Join us in a time of quiet reflection \nLight a candle… \nPray… \nListen…
URL:https://elsternwick.unitingchurch.org.au/event/prayers-for-peace-5/
LOCATION:567 Glen Huntly Road Elsternwick\, 567 Glen Huntly Road\, Elsternwick\, Victoria\, 3188\, Australia
ATTACH;FMTTYPE=image/jpeg:https://elsternwick.unitingchurch.org.au/wp-content/uploads/2024/11/Peace-sign-scaled.jpg
ORGANIZER;CN="St John's Elsternwick Caulfield South Uniting Church":MAILTO:elsternwickuc@victas.uca.org.au
END:VEVENT
BEGIN:VEVENT
DTSTART;TZID=Australia/Melbourne:20241116T090000
DTEND;TZID=Australia/Melbourne:20241116T130000
DTSTAMP:20260422T071755
CREATED:20241001T035533Z
LAST-MODIFIED:20241001T035533Z
UID:1056-1731747600-1731762000@elsternwick.unitingchurch.org.au
SUMMARY:Mini Fete
DESCRIPTION:Help us fundraise for the work of Uniting caring for vulnerable people in our community. \nThere will be plants\, second hand bric a brac and books and yummy morning tea.
URL:https://elsternwick.unitingchurch.org.au/event/mini-fete-3/
LOCATION:567 Glen Huntly Road Elsternwick\, 567 Glen Huntly Road\, Elsternwick\, Victoria\, 3188\, Australia
ATTACH;FMTTYPE=image/jpeg:https://elsternwick.unitingchurch.org.au/wp-content/uploads/2018/05/outreach-hero.jpg
ORGANIZER;CN="St John's Elsternwick Caulfield South Uniting Church":MAILTO:elsternwickuc@victas.uca.org.au
END:VEVENT
BEGIN:VEVENT
DTSTART;TZID=Australia/Melbourne:20241110T180000
DTEND;TZID=Australia/Melbourne:20241110T193000
DTSTAMP:20260422T071755
CREATED:20241001T021039Z
LAST-MODIFIED:20241001T021039Z
UID:1053-1731261600-1731267000@elsternwick.unitingchurch.org.au
SUMMARY:Sunday Night Live
DESCRIPTION:Join us for a shared meal and a time of sharing.
URL:https://elsternwick.unitingchurch.org.au/event/sunday-night-live-5/
LOCATION:567 Glen Huntly Road Elsternwick\, 567 Glen Huntly Road\, Elsternwick\, Victoria\, 3188\, Australia
ATTACH;FMTTYPE=image/jpeg:https://elsternwick.unitingchurch.org.au/wp-content/uploads/2023/07/Sunday-Nite-Live.jpg
ORGANIZER;CN="St John's Elsternwick Caulfield South Uniting Church":MAILTO:elsternwickuc@victas.uca.org.au
END:VEVENT
BEGIN:VEVENT
DTSTART;TZID=Australia/Melbourne:20241106T170000
DTEND;TZID=Australia/Melbourne:20241106T180000
DTSTAMP:20260422T071755
CREATED:20241001T020542Z
LAST-MODIFIED:20241123T002800Z
UID:1049-1730912400-1730916000@elsternwick.unitingchurch.org.au
SUMMARY:Prayers for Peace
DESCRIPTION:Join us in a time of quiet reflection. \nLight a candle… \nPray… \nListen…
URL:https://elsternwick.unitingchurch.org.au/event/prayers-for-peace-4/
LOCATION:567 Glen Huntly Road Elsternwick\, 567 Glen Huntly Road\, Elsternwick\, Victoria\, 3188\, Australia
ATTACH;FMTTYPE=image/png:https://elsternwick.unitingchurch.org.au/wp-content/uploads/2024/10/origami-peace-dove.png
ORGANIZER;CN="St John's Elsternwick Caulfield South Uniting Church":MAILTO:elsternwickuc@victas.uca.org.au
END:VEVENT
BEGIN:VEVENT
DTSTART;TZID=Australia/Melbourne:20241024T170000
DTEND;TZID=Australia/Melbourne:20241024T180000
DTSTAMP:20260422T071755
CREATED:20241001T020445Z
LAST-MODIFIED:20241001T020445Z
UID:1047-1729789200-1729792800@elsternwick.unitingchurch.org.au
SUMMARY:Prayers for Peace
DESCRIPTION:As the world seems on the edge of war we take time to pray for peace. \nJoin us in a time of quiet reflection.
URL:https://elsternwick.unitingchurch.org.au/event/prayers-for-peace-3/
LOCATION:567 Glen Huntly Road Elsternwick\, 567 Glen Huntly Road\, Elsternwick\, Victoria\, 3188\, Australia
ATTACH;FMTTYPE=image/png:https://elsternwick.unitingchurch.org.au/wp-content/uploads/2024/10/origami-peace-dove.png
ORGANIZER;CN="St John's Elsternwick Caulfield South Uniting Church":MAILTO:elsternwickuc@victas.uca.org.au
END:VEVENT
BEGIN:VEVENT
DTSTART;TZID=Australia/Melbourne:20241017T170000
DTEND;TZID=Australia/Melbourne:20241017T180000
DTSTAMP:20260422T071755
CREATED:20241001T020352Z
LAST-MODIFIED:20241001T020352Z
UID:1045-1729184400-1729188000@elsternwick.unitingchurch.org.au
SUMMARY:Prayers for Peace
DESCRIPTION:As the world seems on the edge of war we take time to pray for peace. \nJoin us in a time of quiet reflection.
URL:https://elsternwick.unitingchurch.org.au/event/prayers-for-peace-2/
LOCATION:567 Glen Huntly Road Elsternwick\, 567 Glen Huntly Road\, Elsternwick\, Victoria\, 3188\, Australia
ATTACH;FMTTYPE=image/png:https://elsternwick.unitingchurch.org.au/wp-content/uploads/2024/10/origami-peace-dove.png
ORGANIZER;CN="St John's Elsternwick Caulfield South Uniting Church":MAILTO:elsternwickuc@victas.uca.org.au
END:VEVENT
END:VCALENDAR