BEGIN:VCALENDAR
VERSION:2.0
PRODID:-//Elsternwick Uniting Church - ECPv6.15.15//NONSGML v1.0//EN
CALSCALE:GREGORIAN
METHOD:PUBLISH
X-WR-CALNAME:Elsternwick Uniting Church
X-ORIGINAL-URL:https://elsternwick.unitingchurch.org.au
X-WR-CALDESC:Events for Elsternwick Uniting Church
REFRESH-INTERVAL;VALUE=DURATION:PT1H
X-Robots-Tag:noindex
X-PUBLISHED-TTL:PT1H
BEGIN:VTIMEZONE
TZID:Australia/Melbourne
BEGIN:STANDARD
TZOFFSETFROM:+1100
TZOFFSETTO:+1000
TZNAME:AEST
DTSTART:20180331T160000
END:STANDARD
BEGIN:DAYLIGHT
TZOFFSETFROM:+1000
TZOFFSETTO:+1100
TZNAME:AEDT
DTSTART:20181006T160000
END:DAYLIGHT
BEGIN:STANDARD
TZOFFSETFROM:+1100
TZOFFSETTO:+1000
TZNAME:AEST
DTSTART:20190406T160000
END:STANDARD
BEGIN:DAYLIGHT
TZOFFSETFROM:+1000
TZOFFSETTO:+1100
TZNAME:AEDT
DTSTART:20191005T160000
END:DAYLIGHT
BEGIN:STANDARD
TZOFFSETFROM:+1100
TZOFFSETTO:+1000
TZNAME:AEST
DTSTART:20200404T160000
END:STANDARD
BEGIN:DAYLIGHT
TZOFFSETFROM:+1000
TZOFFSETTO:+1100
TZNAME:AEDT
DTSTART:20201003T160000
END:DAYLIGHT
BEGIN:STANDARD
TZOFFSETFROM:+1100
TZOFFSETTO:+1000
TZNAME:AEST
DTSTART:20210403T160000
END:STANDARD
BEGIN:DAYLIGHT
TZOFFSETFROM:+1000
TZOFFSETTO:+1100
TZNAME:AEDT
DTSTART:20211002T160000
END:DAYLIGHT
BEGIN:STANDARD
TZOFFSETFROM:+1100
TZOFFSETTO:+1000
TZNAME:AEST
DTSTART:20220402T160000
END:STANDARD
BEGIN:DAYLIGHT
TZOFFSETFROM:+1000
TZOFFSETTO:+1100
TZNAME:AEDT
DTSTART:20221001T160000
END:DAYLIGHT
BEGIN:STANDARD
TZOFFSETFROM:+1100
TZOFFSETTO:+1000
TZNAME:AEST
DTSTART:20230401T160000
END:STANDARD
BEGIN:DAYLIGHT
TZOFFSETFROM:+1000
TZOFFSETTO:+1100
TZNAME:AEDT
DTSTART:20230930T160000
END:DAYLIGHT
BEGIN:STANDARD
TZOFFSETFROM:+1100
TZOFFSETTO:+1000
TZNAME:AEST
DTSTART:20240406T160000
END:STANDARD
BEGIN:DAYLIGHT
TZOFFSETFROM:+1000
TZOFFSETTO:+1100
TZNAME:AEDT
DTSTART:20241005T160000
END:DAYLIGHT
BEGIN:STANDARD
TZOFFSETFROM:+1100
TZOFFSETTO:+1000
TZNAME:AEST
DTSTART:20250405T160000
END:STANDARD
BEGIN:DAYLIGHT
TZOFFSETFROM:+1000
TZOFFSETTO:+1100
TZNAME:AEDT
DTSTART:20251004T160000
END:DAYLIGHT
END:VTIMEZONE
BEGIN:VEVENT
DTSTART;TZID=Australia/Melbourne:20240414T180000
DTEND;TZID=Australia/Melbourne:20240414T193000
DTSTAMP:20260422T092514
CREATED:20240327T070600Z
LAST-MODIFIED:20240327T070600Z
UID:973-1713117600-1713123000@elsternwick.unitingchurch.org.au
SUMMARY:Sunday Nite @ St John's
DESCRIPTION:Join us for a wide ranging conversation over a shared meal.
URL:https://elsternwick.unitingchurch.org.au/event/sunday-nite-st-johns-2/
LOCATION:567 Glen Huntly Road Elsternwick\, 567 Glen Huntly Road\, Elsternwick\, Victoria\, 3188\, Australia
ATTACH;FMTTYPE=image/jpeg:https://elsternwick.unitingchurch.org.au/wp-content/uploads/2023/07/Sunday-Nite-Live.jpg
ORGANIZER;CN="St John's Elsternwick Caulfield South Uniting Church":MAILTO:elsternwickuc@victas.uca.org.au
END:VEVENT
BEGIN:VEVENT
DTSTART;TZID=Australia/Melbourne:20240329T093000
DTEND;TZID=Australia/Melbourne:20240329T103000
DTSTAMP:20260422T092514
CREATED:20240222T044328Z
LAST-MODIFIED:20240222T044328Z
UID:963-1711704600-1711708200@elsternwick.unitingchurch.org.au
SUMMARY:Good Friday
DESCRIPTION:Join us for a time of reflection on the Jesus’ sacrifice has meant for the world.
URL:https://elsternwick.unitingchurch.org.au/event/good-friday/
LOCATION:567 Glen Huntly Road Elsternwick\, 567 Glen Huntly Road\, Elsternwick\, Victoria\, 3188\, Australia
ATTACH;FMTTYPE=image/jpeg:https://elsternwick.unitingchurch.org.au/wp-content/uploads/2021/08/holding-cross.jpg
ORGANIZER;CN="St John's Elsternwick Caulfield South Uniting Church":MAILTO:elsternwickuc@victas.uca.org.au
END:VEVENT
BEGIN:VEVENT
DTSTART;TZID=Australia/Melbourne:20240310T180000
DTEND;TZID=Australia/Melbourne:20240310T200000
DTSTAMP:20260422T092514
CREATED:20240222T043851Z
LAST-MODIFIED:20240222T043851Z
UID:960-1710093600-1710100800@elsternwick.unitingchurch.org.au
SUMMARY:Sunday Nite @ St John's
DESCRIPTION:Join us for a relaxed conversation over a meal about what gives meaning to your life.
URL:https://elsternwick.unitingchurch.org.au/event/sunday-nite-st-johns/
LOCATION:567 Glen Huntly Road Elsternwick\, 567 Glen Huntly Road\, Elsternwick\, Victoria\, 3188\, Australia
ATTACH;FMTTYPE=image/jpeg:https://elsternwick.unitingchurch.org.au/wp-content/uploads/2023/07/Sunday-Nite-Live.jpg
ORGANIZER;CN="St John's Elsternwick Caulfield South Uniting Church":MAILTO:elsternwickuc@victas.uca.org.au
END:VEVENT
BEGIN:VEVENT
DTSTART;TZID=Australia/Melbourne:20231225T093000
DTEND;TZID=Australia/Melbourne:20231225T103000
DTSTAMP:20260422T092514
CREATED:20231127T105351Z
LAST-MODIFIED:20231127T105437Z
UID:945-1703496600-1703500200@elsternwick.unitingchurch.org.au
SUMMARY:Christmas Day
DESCRIPTION:Let’s celebrate Christ’s birth. \nA wonderful gift!
URL:https://elsternwick.unitingchurch.org.au/event/christmas-day-3/
LOCATION:567 Glen Huntly Road Elsternwick\, 567 Glen Huntly Road\, Elsternwick\, Victoria\, 3188\, Australia
ATTACH;FMTTYPE=image/png:https://elsternwick.unitingchurch.org.au/wp-content/uploads/2019/12/Carols-by-Candlelight-2019.png
ORGANIZER;CN="St John's Elsternwick Caulfield South Uniting Church":MAILTO:elsternwickuc@victas.uca.org.au
END:VEVENT
BEGIN:VEVENT
DTSTART;TZID=Australia/Melbourne:20231219T150000
DTEND;TZID=Australia/Melbourne:20231219T160000
DTSTAMP:20260422T092514
CREATED:20231205T050726Z
LAST-MODIFIED:20231205T050726Z
UID:950-1702998000-1703001600@elsternwick.unitingchurch.org.au
SUMMARY:Open Church
DESCRIPTION:Drop in and take some time to reflect before the holiday season. \nOur organist will be playing some carols and other favorite pieces on our newly renovated organ \n 
URL:https://elsternwick.unitingchurch.org.au/event/open-church/
LOCATION:567 Glen Huntly Road Elsternwick\, 567 Glen Huntly Road\, Elsternwick\, Victoria\, 3188\, Australia
ATTACH;FMTTYPE=image/png:https://elsternwick.unitingchurch.org.au/wp-content/uploads/2019/12/Carols-by-Candlelight-2019.png
ORGANIZER;CN="St John's Elsternwick Caulfield South Uniting Church":MAILTO:elsternwickuc@victas.uca.org.au
END:VEVENT
BEGIN:VEVENT
DTSTART;TZID=Australia/Melbourne:20231217T190000
DTEND;TZID=Australia/Melbourne:20231217T203000
DTSTAMP:20260422T092514
CREATED:20231127T104941Z
LAST-MODIFIED:20231127T104941Z
UID:943-1702839600-1702845000@elsternwick.unitingchurch.org.au
SUMMARY:Carols
DESCRIPTION:Join us in singing some of your favorite carols.
URL:https://elsternwick.unitingchurch.org.au/event/carols/
LOCATION:567 Glen Huntly Road Elsternwick\, 567 Glen Huntly Road\, Elsternwick\, Victoria\, 3188\, Australia
ATTACH;FMTTYPE=image/png:https://elsternwick.unitingchurch.org.au/wp-content/uploads/2019/12/Carols-by-Candlelight-2019.png
ORGANIZER;CN="St John's Elsternwick Caulfield South Uniting Church":MAILTO:elsternwickuc@victas.uca.org.au
END:VEVENT
BEGIN:VEVENT
DTSTART;TZID=Australia/Melbourne:20230709T180000
DTEND;TZID=Australia/Melbourne:20230709T200000
DTSTAMP:20260422T092514
CREATED:20230602T091055Z
LAST-MODIFIED:20230602T091055Z
UID:916-1688925600-1688932800@elsternwick.unitingchurch.org.au
SUMMARY:Sunday Nite Live
DESCRIPTION:Join us for a relaxed time of sharing – food and conversation. \nWe start with sharing a light meal. \nThis is followed sharing some music\, poetry\, art or a story that has some special meaning to us. \nEveryone is welcome to join this time of fellowship.
URL:https://elsternwick.unitingchurch.org.au/event/sunday-nite-live-9/
LOCATION:567 Glen Huntly Road Elsternwick\, 567 Glen Huntly Road\, Elsternwick\, Victoria\, 3188\, Australia
ATTACH;FMTTYPE=image/jpeg:https://elsternwick.unitingchurch.org.au/wp-content/uploads/2023/06/SNL-July9-2.jpg
ORGANIZER;CN="St John's Elsternwick Caulfield South Uniting Church":MAILTO:elsternwickuc@victas.uca.org.au
END:VEVENT
BEGIN:VEVENT
DTSTART;TZID=Australia/Melbourne:20230611T180000
DTEND;TZID=Australia/Melbourne:20230611T200000
DTSTAMP:20260422T092514
CREATED:20230602T090744Z
LAST-MODIFIED:20230602T091126Z
UID:912-1686506400-1686513600@elsternwick.unitingchurch.org.au
SUMMARY:Sunday Nite Live
DESCRIPTION:Join us for a relaxed time of sharing – food and conversation. \nWe start with sharing a light meal. \nThis is followed sharing some music\, poetry\, art or a story that has some special meaning to us. \nEveryone is welcome to join this time of fellowship.
URL:https://elsternwick.unitingchurch.org.au/event/sunday-nite-live-8/
LOCATION:567 Glen Huntly Road Elsternwick\, 567 Glen Huntly Road\, Elsternwick\, Victoria\, 3188\, Australia
ATTACH;FMTTYPE=image/jpeg:https://elsternwick.unitingchurch.org.au/wp-content/uploads/2023/06/SNL-June11-2.jpg
ORGANIZER;CN="St John's Elsternwick Caulfield South Uniting Church":MAILTO:elsternwickuc@victas.uca.org.au
END:VEVENT
BEGIN:VEVENT
DTSTART;TZID=Australia/Melbourne:20230416T180000
DTEND;TZID=Australia/Melbourne:20230416T203000
DTSTAMP:20260422T092514
CREATED:20230208T070859Z
LAST-MODIFIED:20230327T040010Z
UID:893-1681668000-1681677000@elsternwick.unitingchurch.org.au
SUMMARY:Sunday Nite Live
DESCRIPTION:Join us for a relaxed time of sharing  – food and conversation. \nPlease bring a plate of food to share for a community meal. \nThis is followed by fellowship as people share music\, poetry\, a stories that mean something to them. \nEveryone is welcome.
URL:https://elsternwick.unitingchurch.org.au/event/sunday-nite-live-7/
LOCATION:567 Glen Huntly Road Elsternwick\, 567 Glen Huntly Road\, Elsternwick\, Victoria\, 3188\, Australia
ATTACH;FMTTYPE=image/jpeg:https://elsternwick.unitingchurch.org.au/wp-content/uploads/2023/03/Sunday-Nite-Live-April.jpg
ORGANIZER;CN="St John's Elsternwick Caulfield South Uniting Church":MAILTO:elsternwickuc@victas.uca.org.au
END:VEVENT
BEGIN:VEVENT
DTSTART;TZID=Australia/Melbourne:20230407T100000
DTEND;TZID=Australia/Melbourne:20230407T110000
DTSTAMP:20260422T092514
CREATED:20230327T040539Z
LAST-MODIFIED:20230327T040539Z
UID:905-1680861600-1680865200@elsternwick.unitingchurch.org.au
SUMMARY:Good Friday Service
DESCRIPTION:Take time to reflect with us about the amazing sacrifice that Jesus has made for us and the world.
URL:https://elsternwick.unitingchurch.org.au/event/good-friday-service/
LOCATION:567 Glen Huntly Road Elsternwick\, 567 Glen Huntly Road\, Elsternwick\, Victoria\, 3188\, Australia
ATTACH;FMTTYPE=image/jpeg:https://elsternwick.unitingchurch.org.au/wp-content/uploads/2021/08/holding-cross.jpg
ORGANIZER;CN="St John's Elsternwick Caulfield South Uniting Church":MAILTO:elsternwickuc@victas.uca.org.au
END:VEVENT
BEGIN:VEVENT
DTSTART;TZID=Australia/Melbourne:20230212T180000
DTEND;TZID=Australia/Melbourne:20230212T203000
DTSTAMP:20260422T092514
CREATED:20230208T065814Z
LAST-MODIFIED:20230208T070639Z
UID:868-1676224800-1676233800@elsternwick.unitingchurch.org.au
SUMMARY:Sunday Nite Live
DESCRIPTION:Join us for a relaxed time of sharing  – food and conversation. \nPlease bring a plate of food to share for a community meal. \nThis is followed by fellowship as people share music\, poetry\, a stories that mean something to them. \nEveryone is welcome. \n 
URL:https://elsternwick.unitingchurch.org.au/event/sunday-nite-live-6/
LOCATION:567 Glen Huntly Road Elsternwick\, 567 Glen Huntly Road\, Elsternwick\, Victoria\, 3188\, Australia
ORGANIZER;CN="St John's Elsternwick Caulfield South Uniting Church":MAILTO:elsternwickuc@victas.uca.org.au
END:VEVENT
BEGIN:VEVENT
DTSTART;TZID=Australia/Melbourne:20221225T090000
DTEND;TZID=Australia/Melbourne:20221225T100000
DTSTAMP:20260422T092514
CREATED:20221124T023217Z
LAST-MODIFIED:20221223T234512Z
UID:866-1671958800-1671962400@elsternwick.unitingchurch.org.au
SUMMARY:Christmas Day
DESCRIPTION:Join us for a celebration of Christ’s birth. \nWishing you peace\, hope\, joy and love.
URL:https://elsternwick.unitingchurch.org.au/event/christmas-day-2/
LOCATION:567 Glen Huntly Road Elsternwick\, 567 Glen Huntly Road\, Elsternwick\, Victoria\, 3188\, Australia
ATTACH;FMTTYPE=image/png:https://elsternwick.unitingchurch.org.au/wp-content/uploads/2019/12/Carols-by-Candlelight-2019.png
END:VEVENT
BEGIN:VEVENT
DTSTART;TZID=Australia/Melbourne:20221218T193000
DTEND;TZID=Australia/Melbourne:20221218T210000
DTSTAMP:20260422T092514
CREATED:20221128T023026Z
LAST-MODIFIED:20221128T023050Z
UID:863-1671391800-1671397200@elsternwick.unitingchurch.org.au
SUMMARY:Christmas Carols
DESCRIPTION:Join us for some community singing… all the old favourites plus supper!
URL:https://elsternwick.unitingchurch.org.au/event/christmas-carols/
LOCATION:567 Glen Huntly Road Elsternwick\, 567 Glen Huntly Road\, Elsternwick\, Victoria\, 3188\, Australia
ATTACH;FMTTYPE=image/png:https://elsternwick.unitingchurch.org.au/wp-content/uploads/2019/12/Carols-by-Candlelight-2019.png
ORGANIZER;CN="St John's Elsternwick Caulfield South Uniting Church":MAILTO:elsternwickuc@victas.uca.org.au
END:VEVENT
BEGIN:VEVENT
DTSTART;TZID=Australia/Melbourne:20221211T190000
DTEND;TZID=Australia/Melbourne:20221211T203000
DTSTAMP:20260422T092514
CREATED:20221128T023134Z
LAST-MODIFIED:20221128T023204Z
UID:885-1670785200-1670790600@elsternwick.unitingchurch.org.au
SUMMARY:Sunday Night Live
DESCRIPTION:Join us for a relaxed time of sharing. \nYou might bring some music\, poetry\, a story … or just come and be part of the community.
URL:https://elsternwick.unitingchurch.org.au/event/sunday-night-live-3/
LOCATION:567 Glen Huntly Road Elsternwick\, 567 Glen Huntly Road\, Elsternwick\, Victoria\, 3188\, Australia
ATTACH;FMTTYPE=image/jpeg:https://elsternwick.unitingchurch.org.au/wp-content/uploads/2021/08/holding-cross.jpg
ORGANIZER;CN="St John's Elsternwick Caulfield South Uniting Church":MAILTO:elsternwickuc@victas.uca.org.au
END:VEVENT
BEGIN:VEVENT
DTSTART;TZID=Australia/Melbourne:20220515T190000
DTEND;TZID=Australia/Melbourne:20220515T210000
DTSTAMP:20260422T092514
CREATED:20220506T095935Z
LAST-MODIFIED:20220506T095935Z
UID:825-1652641200-1652648400@elsternwick.unitingchurch.org.au
SUMMARY:Sunday Night Live
DESCRIPTION:Join us for conversation and sharing of memories and ideas.
URL:https://elsternwick.unitingchurch.org.au/event/sunday-night-live-2/
LOCATION:567 Glen Huntly Road Elsternwick\, 567 Glen Huntly Road\, Elsternwick\, Victoria\, 3188\, Australia
ORGANIZER;CN="St John's Elsternwick Caulfield South Uniting Church":MAILTO:elsternwickuc@victas.uca.org.au
END:VEVENT
BEGIN:VEVENT
DTSTART;TZID=Australia/Melbourne:20211225T093000
DTEND;TZID=Australia/Melbourne:20211225T103000
DTSTAMP:20260422T092514
CREATED:20191207T005639Z
LAST-MODIFIED:20211213T003604Z
UID:583-1640424600-1640428200@elsternwick.unitingchurch.org.au
SUMMARY:Christmas Day
DESCRIPTION:Celebrate the true meaning of Christmas … the birth of Jesus Christ\, the light of the world\, Saviour of us all. \nOur offering will go to support projects of Act for Peace’s Christmas Bowl
URL:https://elsternwick.unitingchurch.org.au/event/christmas-day/
LOCATION:567 Glen Huntly Road Elsternwick\, 567 Glen Huntly Road\, Elsternwick\, Victoria\, 3188\, Australia
ATTACH;FMTTYPE=image/png:https://elsternwick.unitingchurch.org.au/wp-content/uploads/2019/12/Carols-by-Candlelight-2019.png
END:VEVENT
BEGIN:VEVENT
DTSTART;TZID=Australia/Melbourne:20211219T193000
DTEND;TZID=Australia/Melbourne:20211219T210000
DTSTAMP:20260422T092514
CREATED:20191206T235753Z
LAST-MODIFIED:20211213T003328Z
UID:580-1639942200-1639947600@elsternwick.unitingchurch.org.au
SUMMARY:Carols by Candlelight
DESCRIPTION:Join us singing some of your old favourites. \nThere will be friendly supper afterwards. \n 
URL:https://elsternwick.unitingchurch.org.au/event/carols-by-candlelight-2/
LOCATION:567 Glen Huntly Road Elsternwick\, 567 Glen Huntly Road\, Elsternwick\, Victoria\, 3188\, Australia
ATTACH;FMTTYPE=image/png:https://elsternwick.unitingchurch.org.au/wp-content/uploads/2019/12/Carols-by-Candlelight-2019.png
ORGANIZER;CN="St John's Elsternwick Caulfield South Uniting Church":MAILTO:elsternwickuc@victas.uca.org.au
END:VEVENT
BEGIN:VEVENT
DTSTART;TZID=Australia/Melbourne:20200225T100000
DTEND;TZID=Australia/Melbourne:20200225T120000
DTSTAMP:20260422T092514
CREATED:20200215T064512Z
LAST-MODIFIED:20200215T064512Z
UID:608-1582624800-1582632000@elsternwick.unitingchurch.org.au
SUMMARY:Pancake Day
DESCRIPTION:Come\, enjoy a pancake and conversation while helping raise funds to to help the disadvantaged in the community.
URL:https://elsternwick.unitingchurch.org.au/event/pancake-day/
LOCATION:567 Glen Huntly Road Elsternwick\, 567 Glen Huntly Road\, Elsternwick\, Victoria\, 3188\, Australia
ATTACH;FMTTYPE=image/jpeg:https://elsternwick.unitingchurch.org.au/wp-content/uploads/2020/02/Pancake-Day-001-2.jpg
ORGANIZER;CN="St John's Elsternwick Caulfield South Uniting Church":MAILTO:elsternwickuc@victas.uca.org.au
END:VEVENT
BEGIN:VEVENT
DTSTART;TZID=Australia/Melbourne:20200223T183000
DTEND;TZID=Australia/Melbourne:20200223T203000
DTSTAMP:20260422T092514
CREATED:20200207T040823Z
LAST-MODIFIED:20200207T040823Z
UID:598-1582482600-1582489800@elsternwick.unitingchurch.org.au
SUMMARY:Sunday Nite Live
DESCRIPTION:Bring a photo\, music\, or something else that means something to you.\nTell a story about that.\nOr just come along to listen.\nBring something simple to eat to share with others.
URL:https://elsternwick.unitingchurch.org.au/event/sunday-nite-live-5/
LOCATION:567 Glen Huntly Road Elsternwick\, 567 Glen Huntly Road\, Elsternwick\, Victoria\, 3188\, Australia
ATTACH;FMTTYPE=image/png:https://elsternwick.unitingchurch.org.au/wp-content/uploads/2020/02/SNL-23Feb.png
ORGANIZER;CN="St John's Elsternwick Caulfield South Uniting Church":MAILTO:elsternwickuc@victas.uca.org.au
END:VEVENT
BEGIN:VEVENT
DTSTART;TZID=Australia/Melbourne:20200126T183000
DTEND;TZID=Australia/Melbourne:20200126T200000
DTSTAMP:20260422T092514
CREATED:20200125T013130Z
LAST-MODIFIED:20200125T013130Z
UID:590-1580063400-1580068800@elsternwick.unitingchurch.org.au
SUMMARY:Sunday Night Live
DESCRIPTION:Join us for a night of conversation and music exploring issues which are important to you. \nBring a plate to share\, some music or a photo that means something to you and bring a friend or make new friends.
URL:https://elsternwick.unitingchurch.org.au/event/sunday-night-live/
LOCATION:567 Glen Huntly Road Elsternwick\, 567 Glen Huntly Road\, Elsternwick\, Victoria\, 3188\, Australia
ATTACH;FMTTYPE=image/png:https://elsternwick.unitingchurch.org.au/wp-content/uploads/2020/01/26-JANUARY-2020-SNL.png
ORGANIZER;CN="St John's Elsternwick Caulfield South Uniting Church":MAILTO:elsternwickuc@victas.uca.org.au
END:VEVENT
BEGIN:VEVENT
DTSTART;TZID=Australia/Melbourne:20191124T183000
DTEND;TZID=Australia/Melbourne:20191124T203000
DTSTAMP:20260422T092514
CREATED:20191120T052336Z
LAST-MODIFIED:20191120T052336Z
UID:562-1574620200-1574627400@elsternwick.unitingchurch.org.au
SUMMARY:Sunday Nite Live
DESCRIPTION:Bring photos\, music or something else that you can tell a story about or just come along to listen. \nPlease bring something simple to share to eat.
URL:https://elsternwick.unitingchurch.org.au/event/sunday-nite-live-4/
LOCATION:567 Glen Huntly Road Elsternwick\, 567 Glen Huntly Road\, Elsternwick\, Victoria\, 3188\, Australia
ATTACH;FMTTYPE=image/png:https://elsternwick.unitingchurch.org.au/wp-content/uploads/2019/11/Sunday-Nite-Live-Nov-2.png
ORGANIZER;CN="St John's Elsternwick Caulfield South Uniting Church":MAILTO:elsternwickuc@victas.uca.org.au
END:VEVENT
BEGIN:VEVENT
DTSTART;TZID=Australia/Melbourne:20191117T143000
DTEND;TZID=Australia/Melbourne:20191117T163000
DTSTAMP:20260422T092514
CREATED:20191031T033536Z
LAST-MODIFIED:20191031T033536Z
UID:558-1574001000-1574008200@elsternwick.unitingchurch.org.au
SUMMARY:Age Well
DESCRIPTION:The Side Door Social Justice Hub invites you to consider What does it mean to age well? with guest speaker Gerard Mansour\, Commissioner for Senior Victorians and Ambassador for Elder Abuse Prevention. \nWe will gather for an open informal sharing of thoughts on all things AGING.\nYou are welcome to ask questions and join in. \nLight supper provided \nRSVP mforbes57@gmail.com
URL:https://elsternwick.unitingchurch.org.au/event/age-well/
LOCATION:567 Glen Huntly Road Elsternwick\, 567 Glen Huntly Road\, Elsternwick\, Victoria\, 3188\, Australia
ATTACH;FMTTYPE=image/png:https://elsternwick.unitingchurch.org.au/wp-content/uploads/2019/10/aging-well-2.png
END:VEVENT
BEGIN:VEVENT
DTSTART;TZID=Australia/Melbourne:20191027T183000
DTEND;TZID=Australia/Melbourne:20191027T203000
DTSTAMP:20260422T092514
CREATED:20190905T104658Z
LAST-MODIFIED:20190905T104658Z
UID:552-1572201000-1572208200@elsternwick.unitingchurch.org.au
SUMMARY:Sunday Nite Live
DESCRIPTION:Cafe style conversation space \nLive music \nStories \nFood
URL:https://elsternwick.unitingchurch.org.au/event/sunday-nite-live-3/
LOCATION:567 Glen Huntly Road Elsternwick\, 567 Glen Huntly Road\, Elsternwick\, Victoria\, 3188\, Australia
ATTACH;FMTTYPE=image/png:https://elsternwick.unitingchurch.org.au/wp-content/uploads/2019/09/Sunday-Nite-Live-2.png
ORGANIZER;CN="St John's Elsternwick Caulfield South Uniting Church":MAILTO:elsternwickuc@victas.uca.org.au
END:VEVENT
BEGIN:VEVENT
DTSTART;TZID=Australia/Melbourne:20191013T120000
DTEND;TZID=Australia/Melbourne:20191013T153000
DTSTAMP:20260422T092514
CREATED:20190905T104139Z
LAST-MODIFIED:20190905T104139Z
UID:543-1570968000-1570980600@elsternwick.unitingchurch.org.au
SUMMARY:Social Justice Lunch - Making an impact on women
DESCRIPTION:At our annual Social Justice Lunch our speaker will be the amazing Kathy Kaplan\, CEO and Founder of ‘Impact for Women’\, which supports women and children through the trauma of domestic violence. All proceeds will go to ‘Impact’. \nIMPACT is a completely volunteer driven and led charity supporting women & children in crisis – specifically those living in crisis accommodation as a result of fleeing from extreme family violence. \nThere will be a two course meal with tea/coffee/soft drinks (BYO wine)\nIf you are able please bring a new toiletry item to go into an IMPACT ‘Bag of Love’ \nPlease book tickets or or leave your details at 9528 4859 by 6 October. \n 
URL:https://elsternwick.unitingchurch.org.au/event/social-justice-lunch-making-an-impact-on-women/
LOCATION:567 Glen Huntly Road Elsternwick\, 567 Glen Huntly Road\, Elsternwick\, Victoria\, 3188\, Australia
ATTACH;FMTTYPE=image/png:https://elsternwick.unitingchurch.org.au/wp-content/uploads/2019/09/Kathy-Kaplan-2.png
END:VEVENT
BEGIN:VEVENT
DTSTART;TZID=Australia/Melbourne:20190929T183000
DTEND;TZID=Australia/Melbourne:20190929T203000
DTSTAMP:20260422T092514
CREATED:20190905T104551Z
LAST-MODIFIED:20190905T104551Z
UID:547-1569781800-1569789000@elsternwick.unitingchurch.org.au
SUMMARY:Sunday Nite Live
DESCRIPTION:Cafe style conversation space \nLive music \nStories \nFood
URL:https://elsternwick.unitingchurch.org.au/event/sunday-nite-live-2/
LOCATION:567 Glen Huntly Road Elsternwick\, 567 Glen Huntly Road\, Elsternwick\, Victoria\, 3188\, Australia
ATTACH;FMTTYPE=image/png:https://elsternwick.unitingchurch.org.au/wp-content/uploads/2019/09/Sunday-Nite-Live-2.png
END:VEVENT
BEGIN:VEVENT
DTSTART;TZID=Australia/Melbourne:20190919T193000
DTEND;TZID=Australia/Melbourne:20190919T213000
DTSTAMP:20260422T092514
CREATED:20190822T072251Z
LAST-MODIFIED:20190822T072251Z
UID:535-1568921400-1568928600@elsternwick.unitingchurch.org.au
SUMMARY:2040
DESCRIPTION:We will be screening Damon Gameau’s new film ‘2040’\, a “hybrid feature documentary”\, which explores what the future could look like if we simply embraced the best solutions already available to us to improve our planet. Structured as a visual letter to his 4-year-old daughter\, Damon blends traditional documentary with dramatised sequences and high-end visual effects to create a vision board of how these solutions could regenerate the world for future generations.
URL:https://elsternwick.unitingchurch.org.au/event/2040/
LOCATION:567 Glen Huntly Road Elsternwick\, 567 Glen Huntly Road\, Elsternwick\, Victoria\, 3188\, Australia
ATTACH;FMTTYPE=image/jpeg:https://elsternwick.unitingchurch.org.au/wp-content/uploads/2019/08/2040.jpg
END:VEVENT
BEGIN:VEVENT
DTSTART;TZID=Australia/Melbourne:20190915T143000
DTEND;TZID=Australia/Melbourne:20190915T163000
DTSTAMP:20260422T092514
CREATED:20190811T113103Z
LAST-MODIFIED:20190822T082739Z
UID:526-1568557800-1568565000@elsternwick.unitingchurch.org.au
SUMMARY:Alan Kogosowski Concert
DESCRIPTION:Internationally acclaimed pianist Alan Kogosowski will play Chopin\, Liszt\, Schubert\, Rachmaninoff and Gershwin. \nBook online or pay at the door.
URL:https://elsternwick.unitingchurch.org.au/event/alan-kogosowski-concert/
LOCATION:567 Glen Huntly Road Elsternwick\, 567 Glen Huntly Road\, Elsternwick\, Victoria\, 3188\, Australia
ATTACH;FMTTYPE=image/png:https://elsternwick.unitingchurch.org.au/wp-content/uploads/2019/08/Alan-Kogosowski-.png
END:VEVENT
BEGIN:VEVENT
DTSTART;TZID=Australia/Melbourne:20190914T140000
DTEND;TZID=Australia/Melbourne:20190914T163000
DTSTAMP:20260422T092514
CREATED:20190822T071327Z
LAST-MODIFIED:20190822T071327Z
UID:530-1568469600-1568478600@elsternwick.unitingchurch.org.au
SUMMARY:The Best of British
DESCRIPTION:Piano: Deborah Jackson\, Stephen Bedding and David de Zilwa\nSingers: John Banks\, Brian Davey\, Andy Barltrop\, Louise Edgoose\nUkulele: Brian Davey\nGuitar: John Banks\nFlute: Greg Burns
URL:https://elsternwick.unitingchurch.org.au/event/the-best-of-british/
LOCATION:567 Glen Huntly Road Elsternwick\, 567 Glen Huntly Road\, Elsternwick\, Victoria\, 3188\, Australia
ATTACH;FMTTYPE=application/pdf:https://elsternwick.unitingchurch.org.au/wp-content/uploads/2019/08/The-Best-of-British-14-September.pdf
END:VEVENT
BEGIN:VEVENT
DTSTART;TZID=Australia/Melbourne:20190825T183000
DTEND;TZID=Australia/Melbourne:20190825T203000
DTSTAMP:20260422T092514
CREATED:20190811T112513Z
LAST-MODIFIED:20190811T112513Z
UID:522-1566757800-1566765000@elsternwick.unitingchurch.org.au
SUMMARY:Sunday Nite Live
DESCRIPTION:On the last Sunday of the month you are invited to join in a meal and conversation\, with music and stories. On this night bring your favourite vinyl record and a story about it.
URL:https://elsternwick.unitingchurch.org.au/event/sunday-nite-live/
LOCATION:567 Glen Huntly Road Elsternwick\, 567 Glen Huntly Road\, Elsternwick\, Victoria\, 3188\, Australia
ATTACH;FMTTYPE=image/png:https://elsternwick.unitingchurch.org.au/wp-content/uploads/2019/08/Sunday-Nite-Live.png
END:VEVENT
BEGIN:VEVENT
DTSTART;TZID=Australia/Melbourne:20190824T093000
DTEND;TZID=Australia/Melbourne:20190824T130000
DTSTAMP:20260422T092514
CREATED:20190808T051921Z
LAST-MODIFIED:20190808T052355Z
UID:517-1566639000-1566651600@elsternwick.unitingchurch.org.au
SUMMARY:Community Organising Basics
DESCRIPTION:We have a fabulous training opportunity for people who want to become more confident and effective advocates for social justice. Denisse Sandoval\, Community Organiser and Social Justice Advocate with the Uniting Church\, is leading a workshop focusing on community organising\, lobbying and developing campaign strategies to address issues of concern to the community. \n 
URL:https://elsternwick.unitingchurch.org.au/event/community-organising-basics/
LOCATION:567 Glen Huntly Road Elsternwick\, 567 Glen Huntly Road\, Elsternwick\, Victoria\, 3188\, Australia
ATTACH;FMTTYPE=image/png:https://elsternwick.unitingchurch.org.au/wp-content/uploads/2019/08/Community-Workshop-2.png
END:VEVENT
END:VCALENDAR